BEGIN:VCALENDAR
VERSION:2.0
PRODID:-//eventon.com NONSGML v1.0//EN
BEGIN:VEVENT
UID:69eb42b822e8a
DTSTAMP:20260424T051520
DTSTART:20220420T230000Z
DTEND:20220421T010000Z
LOCATION:Virtual Workshop - Zoom 
SUMMARY:More or Less: Explicitation in Interpreting
DESCRIPTION: The differences between the discourse patterns of ASL and English in addition to the high context culture of American Deaf culture and low context nature of American English culture have implications for sign language interpreters. In order to successfully provide source and target message equivalency\,  interpreters must mediate between linguistic[..]
END:VEVENT
END:VCALENDAR