BEGIN:VCALENDAR
VERSION:2.0
PRODID:-//eventon.com NONSGML v1.0//EN
BEGIN:VEVENT
UID:69e8be5e04d08
DTSTAMP:20260422T072606
DTSTART:20220317T230000Z
DTEND:20220318T010000Z
LOCATION:Virtual Workshop - Zoom 
SUMMARY:Funerals Panel and How We Approach the Work
DESCRIPTION: Are you feeling like interpreting for funerals is not your thing? Think again! Our three panelists will discuss how they approach this important\,  rewarding\,  and emotional work. During this workshop we will discuss how to go through the four domains in which we address our work: pre-commitment\,  pre-encounter\,  encounter and[..]
END:VEVENT
END:VCALENDAR