BEGIN:VCALENDAR
VERSION:2.0
PRODID:-//eventon.com NONSGML v1.0//EN
BEGIN:VEVENT
UID:69e8bc4933299
DTSTAMP:20260422T071713
DTSTART:20220216T230000Z
DTEND:20220217T010000Z
LOCATION:Virtual Workshop - Zoom 
SUMMARY:“Into” and “Enter” what is the difference? Examining Structures to Improve Conceptualization
DESCRIPTION: Beyond their respective parts of speech\,  what are the differences between the words\,  “into” and “enter”? What about “Explode” and “Explosion”? These words have different conceptual meanings\,  in that your mind sees them differently. What can this do for us as language learners or interpreters? Learning how your mind categorizes[..]
END:VEVENT
END:VCALENDAR