BEGIN:VCALENDAR
VERSION:2.0
PRODID:-//eventon.com NONSGML v1.0//EN
BEGIN:VEVENT
UID:69e8bef1d2215
DTSTAMP:20260422T072833
DTSTART:20210623T230000Z
DTEND:20210624T010000Z
LOCATION:Virtual Workshop - Zoom 
SUMMARY:Depiction in Interpreting\,  How and When?
DESCRIPTION: Participants should be familiar with the following concepts\,  as only a refresher will be provided: constructed action\,  classifiers\,  partitioning\,  unrealized inceptives\,  and indicating verbs. This session bring these aspects together for working and aspiring interpreters. This workshop presents the view that English linguistic items and structures evoke conceptual content that[..]
END:VEVENT
END:VCALENDAR