BEGIN:VCALENDAR
VERSION:2.0
PRODID:-//eventon.com NONSGML v1.0//EN
BEGIN:VEVENT
UID:69e8cfd802737
DTSTAMP:20260422T084040
DTSTART:20211020T220000Z
DTEND:20211021T010000Z
LOCATION:Virtual Workshop - Zoom 
SUMMARY:EIPA Skills Development Workshop
DESCRIPTION: In this workshop\,  participants will look at two sub-skills assessed on the Educational Interpreters Performance Assessment (EIPA): Verb Directionality/Pronominal System and Indicating Who Is Speaking. Participants will work through activities designed to improve these sub-skills. Educational Objectives: At the conclusion of this workshop\,  participants will be able to: 1. Decompose[..]
END:VEVENT
END:VCALENDAR