BEGIN:VCALENDAR
VERSION:2.0
PRODID:-//eventon.com NONSGML v1.0//EN
BEGIN:VEVENT
UID:69e8bdc374fdd
DTSTAMP:20260422T072331
DTSTART:20210609T230000Z
DTEND:20210610T010000Z
LOCATION:Virtual Workshop - Zoom 
SUMMARY:It's a Touchy Subject
DESCRIPTION: This workshop is designed to explore subjects in the educational setting that can be a bit touchy to interpret. We will take an in-depth look at Family Life in the K-12 setting and how interpreters can be better prepared to approach the subject in the most professional way. As interpreters[..]
END:VEVENT
END:VCALENDAR