BEGIN:VCALENDAR
VERSION:2.0
PRODID:-//eventon.com NONSGML v1.0//EN
BEGIN:VEVENT
UID:69e8bef7a93d9
DTSTAMP:20260422T072839
DTSTART:20210519T220000Z
DTEND:20210520T010000Z
LOCATION:Virtual Workshop - Zoom 
SUMMARY:Biomechanics and Best Practice for Sign Language Interpreters
DESCRIPTION: This workshop will provide background information on the unfortunate common occurrence of musculoskeletal pain in sign language interpreters. This workshop will be in lecture format along with opportunities to apply what is learned. The learning will be fun and definitely\,  interactive. In addition participants will learn about current research and[..]
END:VEVENT
END:VCALENDAR