BEGIN:VCALENDAR
VERSION:2.0
PRODID:-//eventon.com NONSGML v1.0//EN
BEGIN:VEVENT
UID:69e8bbf824574
DTSTAMP:20260422T071552
DTSTART:20210617T230000Z
DTEND:20210625T010000Z
LOCATION:Virtual Workshop - Zoom 
SUMMARY:Gaining and Utilizing the Tools in the Toolbox
DESCRIPTION: This will be focused on implementing the strategies of gaining world knowledge and developing the skills equivalent to the 10\, 000 hours of acquired experience to utilize the two-seconds impressions to support the interpreting field. Using sources such as the works of Malcolm Gladwell and Daniel Goleman and the presenter's experience[..]
END:VEVENT
END:VCALENDAR