BEGIN:VCALENDAR
VERSION:2.0
PRODID:-//eventon.com NONSGML v1.0//EN
BEGIN:VEVENT
UID:69e8cfb2cb54d
DTSTAMP:20260422T084002
DTSTART:20210421T230000Z
DTEND:20210422T010000Z
LOCATION:Virtual Workshop - Zoom 
SUMMARY:Interpreting Business Practices: It's a Matter of $s & ¢s
DESCRIPTION: This presentation benefits pre-certified and certified interpreters to develop ethical business practices\,  improve accounting practices\,  "impression management"\,  the benefit of Good Will practices\,  business "presentations" to become more professional\,  provide "tips" to help save money at tax time and familiarize with Small Claims Court system as an option for recovering[..]
END:VEVENT
END:VCALENDAR