BEGIN:VCALENDAR
VERSION:2.0
PRODID:-//eventon.com NONSGML v1.0//EN
BEGIN:VEVENT
UID:69e8cfd7becab
DTSTAMP:20260422T084039
DTSTART:20210407T110000Z
DTEND:20210408T010000Z
LOCATION:Virtual Workshop - Zoom 
SUMMARY:Fact or Fiction: History of the Deaf Community
DESCRIPTION: This is a game with answers of; Fact or Fiction. It’s exciting to learn and/or refresh your mind about Deaf Culture/World\,  Deaf Community\,  History\,  Language\,  Deaf Organizations; and the past and current perspectives. It will be an activity in teams with a support of lecture of questions and information. It[..]
END:VEVENT
END:VCALENDAR