BEGIN:VCALENDAR
VERSION:2.0
PRODID:-//eventon.com NONSGML v1.0//EN
BEGIN:VEVENT
UID:69eb42a8cc9c3
DTSTAMP:20260424T051504
DTSTART:20210331T230000Z
DTEND:20210401T010000Z
LOCATION:Virtual Workshop - Zoom 
SUMMARY:Blockbuster: Cinematic ASL
DESCRIPTION: Have you ever seen an ASL story performance and thought\,  "That's like watching a movie!"? Television and film use certain conventions (often referred to as their "grammar") when recording and editing audiovisual media. ASL literature has been found to use the same types of conventions by ASL writers (Krentz\,  2006.[..]
END:VEVENT
END:VCALENDAR