BEGIN:VCALENDAR
VERSION:2.0
PRODID:-//eventon.com NONSGML v1.0//EN
BEGIN:VEVENT
UID:69e8d2bc412be
DTSTAMP:20260422T085300
DTSTART:20210218T220000Z
DTEND:20210226T010000Z
LOCATION:Virtual Workshop - Zoom 
SUMMARY:Do Nothing or Do No Harm?: Competing Values in Healthcare Interpreting
DESCRIPTION: The practice of healthcare interpreting is a specialization with a unique set of demands\,  goals\,  and responsibilities. During this presentation\,  participants will examine their place and work in the healthcare setting using the framework of the Demand Control Schema. Emphasis is placed on outcome-based decision-making. Resources and practice exercises are[..]
END:VEVENT
END:VCALENDAR