BEGIN:VCALENDAR
VERSION:2.0
PRODID:-//eventon.com NONSGML v1.0//EN
BEGIN:VEVENT
UID:69e8bdc37456e
DTSTAMP:20260422T072331
DTSTART:20210101T230000Z
DTEND:20210102T010000Z
LOCATION:Virtual Workshop - Zoom 
SUMMARY:Why Purification and Modification of ASL Doesn’t Help
DESCRIPTION: It will be a presentation and discussion about the invented changes in ASL lexicon. One worrisome behavior among interpreters is that they think they have the right to adopt signs often rejected by the Deaf community\,  just because a few who say they want ASL to be "pure". Perspectives will[..]
END:VEVENT
END:VCALENDAR