BEGIN:VCALENDAR
VERSION:2.0
PRODID:-//eventon.com NONSGML v1.0//EN
BEGIN:VEVENT
UID:69e8a25307137
DTSTAMP:20260422T052627
DTSTART:20201209T230000Z
DTEND:20201210T010000Z
LOCATION:Virtual Workshop - Zoom 
SUMMARY:Cultural Diversity: Discussed through the Lens of Black Females
DESCRIPTION: Cultural diversity has been a hot topic and has initiated discussions regarding discrimination and oppression experienced by marginalized groups. As interpreters\,  we are in constant contact with members of these groups. Therefore\,  it is imperative to recognize and respect various cultures. This workshop will provide an overview of intentional or[..]
END:VEVENT
END:VCALENDAR