BEGIN:VCALENDAR
VERSION:2.0
PRODID:-//eventon.com NONSGML v1.0//EN
BEGIN:VEVENT
UID:69e8bc5f2da11
DTSTAMP:20260422T071735
DTSTART:20201117T220000Z
DTEND:20201118T010000Z
LOCATION:Virtual Workshop - Zoom 
SUMMARY:On The Other Hand...Thinking About Choices & Consequences in Interpreting
DESCRIPTION: Interpreters often have to defend their decisions by emphasizing they had to “step outside their role” to justify their ethical decisions when their decisions were in compliance with the RID-NAD’s Code of Professional Conduct (CPC). The real problem lies with the fact we are still uncomfortable about discussing and justifying[..]
END:VEVENT
END:VCALENDAR