BEGIN:VCALENDAR
VERSION:2.0
PRODID:-//eventon.com NONSGML v1.0//EN
BEGIN:VEVENT
UID:69eca24dae0e6
DTSTAMP:20260425T061525
DTSTART:20260218T220000Z
DTEND:20260219T010000Z
LOCATION:Virtual Workshop - Zoom 
SUMMARY:Unlearning Words: #1 Begin to See
DESCRIPTION: This workshop aims to convey some deliberation on the topic of sign language expression\,  exploring the origins of words\,  their purpose and the effect they have on the processes of signing. This workshop will show how words are surrogate in sign language and how you can recognize the underlying patterns[..]
END:VEVENT
END:VCALENDAR