BEGIN:VCALENDAR
VERSION:2.0
PRODID:-//eventon.com NONSGML v1.0//EN
BEGIN:VEVENT
UID:69e4d0daedb30
DTSTAMP:20260419T075554
DTSTART:20250517T140000Z
DTEND:20250517T180000Z
LOCATION:Virtual Workshop - Zoom 
SUMMARY:There's No Sign for That! & There's No Word for That!
DESCRIPTION: Strategies for Finding ASL Equivalence How often do you search for a sign for the specific word or concept you want to express and find yourself stumped? Often\,  there isn’t one sign for a specific word\,  so you need to be able to create a sign string to convey the[..]
END:VEVENT
END:VCALENDAR