BEGIN:VCALENDAR
VERSION:2.0
PRODID:-//eventon.com NONSGML v1.0//EN
BEGIN:VEVENT
UID:69e737a41de53
DTSTAMP:20260421T033900
DTSTART:20241123T140000Z
DTEND:20241123T210000Z
LOCATION:IN PERSON at Benton Stearns Education District Building 517 2nd Street South
SUMMARY:The Role of the Deaf Interpreter: A Closer Look & Power Dynamics of Language and the Words We Use
DESCRIPTION: Join us for two IN PERSON workshops! The Role of the Deaf Interpreter: A Closer Look and Power Dynamics of Language and the Words We Use ppo ceus! Learn from four experienced Deaf Presenters! Join us for two FREE\,  IN PERSON WORKSHOPS in the St. Cloud area. This includes one that offers PPO CEUs.[..]
END:VEVENT
END:VCALENDAR