BEGIN:VCALENDAR
VERSION:2.0
PRODID:-//eventon.com NONSGML v1.0//EN
BEGIN:VEVENT
UID:69e59e409ed7a
DTSTAMP:20260419T223216
DTSTART:20240314T230000Z
DTEND:20240315T010000Z
LOCATION:Virtual Workshop - Zoom 
SUMMARY:The Journey Within: Cultivating Emotional Awareness
DESCRIPTION: This interactive workshop provides interpreters with foundational tools to build emotional awareness and recognition skills. Participants will gain insight into identifying and managing their emotional states through experiential exercises\,  guided self-inquiry\,  and interpreting scenarios. The facilitators will create a reflective space where everyone contributes their experiences as we co-create this[..]
END:VEVENT
END:VCALENDAR