BEGIN:VCALENDAR
VERSION:2.0
PRODID:-//eventon.com NONSGML v1.0//EN
BEGIN:VEVENT
UID:69e49fb385398
DTSTAMP:20260419T042611
DTSTART:20231128T230000Z
DTEND:20231129T010000Z
LOCATION:Virtual Workshop - Zoom 
SUMMARY:Be The Team You Want: Remote Team Interpreting Success
DESCRIPTION: Remote interpreting has plenty of opportunity for teaming\,  but it looks and requires different dynamics than on-site teaming. Successful remote interpreting dynamics should feel like a well-choreographed dance. Whether you’ve teamed with someone before or it will be new for you\,  remote teaming can be successful every time. We’ll explore[..]
END:VEVENT
END:VCALENDAR