BEGIN:VCALENDAR
VERSION:2.0
PRODID:-//eventon.com NONSGML v1.0//EN
BEGIN:VEVENT
UID:69eca2ef38366
DTSTAMP:20260425T061807
DTSTART:20230413T230000Z
DTEND:20230414T010000Z
LOCATION:Virtual Workshop - Zoom 
SUMMARY:Navigating the Hard Stuff with Soft Skills: Strategic Mediation That Builds Rapport
DESCRIPTION: While interpreting\,  there are plenty of moments where the interpreter will have to intervene to provide strategic mediation or request additional support. However\,  the way a request is made may not always come with the rapport building soft skills necessary; how interpreters communicate can have a significant impact on the[..]
END:VEVENT
END:VCALENDAR